BEGIN:VCALENDAR
VERSION:2.0
PRODID:-//PS Ticino - ECPv6.2.3.2//NONSGML v1.0//EN
CALSCALE:GREGORIAN
METHOD:PUBLISH
X-WR-CALNAME:PS Ticino
X-ORIGINAL-URL:https://ps-ticino.ch
X-WR-CALDESC:Eventi per PS Ticino
REFRESH-INTERVAL;VALUE=DURATION:PT1H
X-Robots-Tag:noindex
X-PUBLISHED-TTL:PT1H
BEGIN:VTIMEZONE
TZID:Europe/Zurich
BEGIN:DAYLIGHT
TZOFFSETFROM:+0100
TZOFFSETTO:+0200
TZNAME:CEST
DTSTART:20230326T010000
END:DAYLIGHT
BEGIN:STANDARD
TZOFFSETFROM:+0200
TZOFFSETTO:+0100
TZNAME:CET
DTSTART:20231029T010000
END:STANDARD
BEGIN:DAYLIGHT
TZOFFSETFROM:+0100
TZOFFSETTO:+0200
TZNAME:CEST
DTSTART:20240331T010000
END:DAYLIGHT
BEGIN:STANDARD
TZOFFSETFROM:+0200
TZOFFSETTO:+0100
TZNAME:CET
DTSTART:20241027T010000
END:STANDARD
END:VTIMEZONE
BEGIN:VEVENT
DTSTART;TZID=Europe/Zurich:20231027T181500
DTEND;TZID=Europe/Zurich:20231027T210000
DTSTAMP:20231023T171521
CREATED:20230821T084858Z
LAST-MODIFIED:20230912T113615Z
UID:105553-1698430500-1698440400@ps-ticino.ch
SUMMARY:Apérouge - PS Locarno
DESCRIPTION:Vi aspettiamo per passare un momento in buona compagnia\, tra due chiacchiere\, un bicchiere e un grissino. Per staccare la spina ma non troppo. \nLuogo: Bisprò
URL:https://ps-ticino.ch/evento/aperouge-ps-locarno-3/
LOCATION:Locarno
CATEGORIES:Agenda del PS
END:VEVENT
BEGIN:VEVENT
DTSTART;VALUE=DATE:20231112
DTEND;VALUE=DATE:20231113
DTSTAMP:20231023T171521
CREATED:20230904T111621Z
LAST-MODIFIED:20231017T135201Z
UID:105727-1699747200-1699833599@ps-ticino.ch
SUMMARY:Castagnata - organizzata dall'Alto Vedeggio Rosso Verde
DESCRIPTION:Incontriamoci per discutere di politica comunale\, cantonale\, nazionale e internazionale… \nore 16:00\, al ristorante Bironico a Bironico.
URL:https://ps-ticino.ch/evento/castagnata-organizzata-dallalto-vedeggio-rosso-verde/
CATEGORIES:Agenda del PS
END:VEVENT
BEGIN:VEVENT
DTSTART;TZID=Europe/Zurich:20231116T180000
DTEND;TZID=Europe/Zurich:20231116T210000
DTSTAMP:20231023T171521
CREATED:20230821T084935Z
LAST-MODIFIED:20230821T084935Z
UID:105555-1700157600-1700168400@ps-ticino.ch
SUMMARY:Apérouge - PS Locarno
DESCRIPTION:Dettagli seguono
URL:https://ps-ticino.ch/evento/aperouge-ps-locarno-4/
CATEGORIES:Agenda del PS
END:VEVENT
BEGIN:VEVENT
DTSTART;TZID=Europe/Zurich:20231129T194500
DTEND;TZID=Europe/Zurich:20231129T230000
DTSTAMP:20231023T171521
CREATED:20230125T161356Z
LAST-MODIFIED:20230719T105500Z
UID:101590-1701287100-1701298800@ps-ticino.ch
SUMMARY:Comitato Cantonale
DESCRIPTION:Dettagli seguono
URL:https://ps-ticino.ch/evento/comitato-cantonale-15/
LOCATION:Bellinzona
CATEGORIES:Agenda del PS
END:VEVENT
BEGIN:VEVENT
DTSTART;TZID=Europe/Zurich:20231207T180000
DTEND;TZID=Europe/Zurich:20231207T210000
DTSTAMP:20231023T171521
CREATED:20230912T113411Z
LAST-MODIFIED:20230912T113411Z
UID:105806-1701972000-1701982800@ps-ticino.ch
SUMMARY:Apérouge - PS Locarno
DESCRIPTION:Dettagli seguono
URL:https://ps-ticino.ch/evento/aperouge-ps-locarno-9/
CATEGORIES:Agenda del PS
END:VEVENT
BEGIN:VEVENT
DTSTART;TZID=Europe/Zurich:20231222T180000
DTEND;TZID=Europe/Zurich:20231222T210000
DTSTAMP:20231023T171521
CREATED:20230912T113324Z
LAST-MODIFIED:20230912T113346Z
UID:105803-1703268000-1703278800@ps-ticino.ch
SUMMARY:Apérouge natalizio - PS Locarno
DESCRIPTION:Dettagli seguono
URL:https://ps-ticino.ch/evento/aperouge-natalizio-ps-locarno-copy/
CATEGORIES:Agenda del PS
END:VEVENT
BEGIN:VEVENT
DTSTART;TZID=Europe/Zurich:20240118T180000
DTEND;TZID=Europe/Zurich:20240118T210000
DTSTAMP:20231023T171521
CREATED:20230912T113250Z
LAST-MODIFIED:20230912T113250Z
UID:105801-1705600800-1705611600@ps-ticino.ch
SUMMARY:Apérouge - PS Locarno
DESCRIPTION:Dettagli seguono
URL:https://ps-ticino.ch/evento/aperouge-ps-locarno-8/
CATEGORIES:Agenda del PS
END:VEVENT
BEGIN:VEVENT
DTSTART;TZID=Europe/Zurich:20240208T180000
DTEND;TZID=Europe/Zurich:20240208T210000
DTSTAMP:20231023T171521
CREATED:20230912T113135Z
LAST-MODIFIED:20230912T113135Z
UID:105799-1707415200-1707426000@ps-ticino.ch
SUMMARY:Apérouge - PS Locarno
DESCRIPTION:Dettagli seguono
URL:https://ps-ticino.ch/evento/aperouge-ps-locarno-7/
CATEGORIES:Agenda del PS
END:VEVENT
BEGIN:VEVENT
DTSTART;TZID=Europe/Zurich:20240229T180000
DTEND;TZID=Europe/Zurich:20240229T210000
DTSTAMP:20231023T171521
CREATED:20230912T113100Z
LAST-MODIFIED:20230912T113100Z
UID:105797-1709229600-1709240400@ps-ticino.ch
SUMMARY:Apérouge - PS Locarno
DESCRIPTION:Dettagli seguono
URL:https://ps-ticino.ch/evento/aperouge-ps-locarno-6/
CATEGORIES:Agenda del PS
END:VEVENT
BEGIN:VEVENT
DTSTART;TZID=Europe/Zurich:20240321T180000
DTEND;TZID=Europe/Zurich:20240321T200000
DTSTAMP:20231023T171521
CREATED:20230912T112811Z
LAST-MODIFIED:20230912T112811Z
UID:105794-1711044000-1711051200@ps-ticino.ch
SUMMARY:Apèrouge - PS Locarno
DESCRIPTION:Dettagli seguono
URL:https://ps-ticino.ch/evento/aperouge-ps-locarno-5/
END:VEVENT
BEGIN:VEVENT
DTSTART;TZID=Europe/Zurich:20240411T180000
DTEND;TZID=Europe/Zurich:20240411T210000
DTSTAMP:20231023T171521
CREATED:20230821T084639Z
LAST-MODIFIED:20230912T112422Z
UID:105546-1712858400-1712869200@ps-ticino.ch
SUMMARY:Apérouge - PS Locarno
DESCRIPTION:Dettagli seguono
URL:https://ps-ticino.ch/evento/aperouge-ps-locarno/
CATEGORIES:Agenda del PS
END:VEVENT
END:VCALENDAR