BEGIN:VCALENDAR
VERSION:2.0
PRODID:-//PS Ticino - ECPv6.15.20//NONSGML v1.0//EN
CALSCALE:GREGORIAN
METHOD:PUBLISH
X-ORIGINAL-URL:https://ps-ticino.ch
X-WR-CALDESC:Eventi per PS Ticino
REFRESH-INTERVAL;VALUE=DURATION:PT1H
X-Robots-Tag:noindex
X-PUBLISHED-TTL:PT1H
BEGIN:VTIMEZONE
TZID:Europe/Zurich
BEGIN:DAYLIGHT
TZOFFSETFROM:+0100
TZOFFSETTO:+0200
TZNAME:CEST
DTSTART:20220327T010000
END:DAYLIGHT
BEGIN:STANDARD
TZOFFSETFROM:+0200
TZOFFSETTO:+0100
TZNAME:CET
DTSTART:20221030T010000
END:STANDARD
BEGIN:DAYLIGHT
TZOFFSETFROM:+0100
TZOFFSETTO:+0200
TZNAME:CEST
DTSTART:20230326T010000
END:DAYLIGHT
BEGIN:STANDARD
TZOFFSETFROM:+0200
TZOFFSETTO:+0100
TZNAME:CET
DTSTART:20231029T010000
END:STANDARD
BEGIN:DAYLIGHT
TZOFFSETFROM:+0100
TZOFFSETTO:+0200
TZNAME:CEST
DTSTART:20240331T010000
END:DAYLIGHT
BEGIN:STANDARD
TZOFFSETFROM:+0200
TZOFFSETTO:+0100
TZNAME:CET
DTSTART:20241027T010000
END:STANDARD
END:VTIMEZONE
BEGIN:VEVENT
DTSTART;TZID=Europe/Zurich:20230613T184500
DTEND;TZID=Europe/Zurich:20230613T220000
DTSTAMP:20260420T182502
CREATED:20230605T200747Z
LAST-MODIFIED:20230605T200747Z
UID:105248-1686681900-1686693600@ps-ticino.ch
SUMMARY:Congedo parentale
DESCRIPTION:CONGEDO PARENTALE  \nPER LE DONNE\, PER GLI UOMINI\, PER LA FAMIGLIA!  \n18:45 Presentazione di Nadine Hoch\, \nresponsabile della Commissione federale  \nper le questioni familiari COFF  \n19:15 Tavola rotonda\, con testimonianze dirette da parte di giovani famiglie \nModerazione: \nMartina Minoletti\, giornalista ed educatrice in formazione  \n20:00 Aperitivo e creazione di uno striscione  per lo sciopero  \nVi aspettiamo numerosi! \nIscrizioni entro il 9 giugno a: info@faftplus .ch \nMaggiori informazioni
URL:https://ps-ticino.ch/evento/congedo-parentale/
CATEGORIES:Agenda del PS
END:VEVENT
END:VCALENDAR