BEGIN:VCALENDAR
VERSION:2.0
PRODID:-//PS Ticino - ECPv6.15.20//NONSGML v1.0//EN
CALSCALE:GREGORIAN
METHOD:PUBLISH
X-WR-CALNAME:PS Ticino
X-ORIGINAL-URL:https://ps-ticino.ch
X-WR-CALDESC:Eventi per PS Ticino
REFRESH-INTERVAL;VALUE=DURATION:PT1H
X-Robots-Tag:noindex
X-PUBLISHED-TTL:PT1H
BEGIN:VTIMEZONE
TZID:Europe/Zurich
BEGIN:DAYLIGHT
TZOFFSETFROM:+0100
TZOFFSETTO:+0200
TZNAME:CEST
DTSTART:20220327T010000
END:DAYLIGHT
BEGIN:STANDARD
TZOFFSETFROM:+0200
TZOFFSETTO:+0100
TZNAME:CET
DTSTART:20221030T010000
END:STANDARD
BEGIN:DAYLIGHT
TZOFFSETFROM:+0100
TZOFFSETTO:+0200
TZNAME:CEST
DTSTART:20230326T010000
END:DAYLIGHT
BEGIN:STANDARD
TZOFFSETFROM:+0200
TZOFFSETTO:+0100
TZNAME:CET
DTSTART:20231029T010000
END:STANDARD
BEGIN:DAYLIGHT
TZOFFSETFROM:+0100
TZOFFSETTO:+0200
TZNAME:CEST
DTSTART:20240331T010000
END:DAYLIGHT
BEGIN:STANDARD
TZOFFSETFROM:+0200
TZOFFSETTO:+0100
TZNAME:CET
DTSTART:20241027T010000
END:STANDARD
BEGIN:DAYLIGHT
TZOFFSETFROM:+0100
TZOFFSETTO:+0200
TZNAME:CEST
DTSTART:20250330T010000
END:DAYLIGHT
BEGIN:STANDARD
TZOFFSETFROM:+0200
TZOFFSETTO:+0100
TZNAME:CET
DTSTART:20251026T010000
END:STANDARD
END:VTIMEZONE
BEGIN:VEVENT
DTSTART;TZID=Europe/Zurich:20241129T180000
DTEND;TZID=Europe/Zurich:20241129T203000
DTSTAMP:20260420T182502
CREATED:20241105T131328Z
LAST-MODIFIED:20241105T131351Z
UID:108243-1732903200-1732912200@ps-ticino.ch
SUMMARY:Conferenza: la precarietà degli stranieri residenti in Ticino
DESCRIPTION:Intervengono \nManuele Bertoli\, presidente della Commissione federale della migrazione \nMario Amato\, Direttore SOS Ticino \nLara Robbiani\, Associazione DaRe \nModera Beppe Savary-Borioli \nSala del Consiglio comunale di Locarno\nOre 18:00
URL:https://ps-ticino.ch/evento/conferenza-la-precarieta-degli-stranieri-residenti-in-ticino/
LOCATION:Locarno
CATEGORIES:Agenda del PS
END:VEVENT
BEGIN:VEVENT
DTSTART;TZID=Europe/Zurich:20241122T181500
DTEND;TZID=Europe/Zurich:20241122T230000
DTSTAMP:20260420T182502
CREATED:20241017T134736Z
LAST-MODIFIED:20241017T134736Z
UID:108139-1732299300-1732316400@ps-ticino.ch
SUMMARY:Alla scoperta di Giovan Battista Rusca
DESCRIPTION:Alla riscoperta di un radicale antifascista. \n  \nSerata organizzata dal gruppo culturale della sinistra locarnese. \n  \nMaggiori informazioni \n  \n 
URL:https://ps-ticino.ch/evento/alla-scoperta-di-giovan-battista-rusca/
LOCATION:Locarno
CATEGORIES:Agenda del PS
END:VEVENT
BEGIN:VEVENT
DTSTART;TZID=Europe/Zurich:20231027T181500
DTEND;TZID=Europe/Zurich:20231027T210000
DTSTAMP:20260420T182502
CREATED:20230821T084858Z
LAST-MODIFIED:20230912T113615Z
UID:105553-1698430500-1698440400@ps-ticino.ch
SUMMARY:Apérouge - PS Locarno
DESCRIPTION:Vi aspettiamo per passare un momento in buona compagnia\, tra due chiacchiere\, un bicchiere e un grissino. Per staccare la spina ma non troppo. \nLuogo: Bisprò
URL:https://ps-ticino.ch/evento/aperouge-ps-locarno-3/
LOCATION:Locarno
CATEGORIES:Agenda del PS
END:VEVENT
BEGIN:VEVENT
DTSTART;TZID=Europe/Zurich:20231019T200000
DTEND;TZID=Europe/Zurich:20231019T210000
DTSTAMP:20260420T182502
CREATED:20230912T113756Z
LAST-MODIFIED:20230912T113756Z
UID:105810-1697745600-1697749200@ps-ticino.ch
SUMMARY:Assemblea ordinaria - PS Locarno
DESCRIPTION:Sede PS Locarno\, Piazzetta dei Riformati 1\, Locarno
URL:https://ps-ticino.ch/evento/assemblea-ordinaria-ps-locarno-2/
LOCATION:Locarno
CATEGORIES:Agenda del PS
END:VEVENT
BEGIN:VEVENT
DTSTART;TZID=Europe/Zurich:20230928T183000
DTEND;TZID=Europe/Zurich:20230928T220000
DTSTAMP:20260420T182502
CREATED:20230817T160317Z
LAST-MODIFIED:20230922T085203Z
UID:105536-1695925800-1695938400@ps-ticino.ch
SUMMARY:Parliamo di... ECONOMIA - GISO
DESCRIPTION:con Spartaco Greppi \, Economista e professore SUPSI \ne i nostri candidati Santiago Storelli\, Yannick Demaria\, Patrik Gabriele. \n  \nLuogo: DFA-SUPSI\, aula B-005\, Locarno \ngiovedì 28 settembre 2023 dalle 18:30
URL:https://ps-ticino.ch/evento/evento-giso-3/
LOCATION:Locarno
CATEGORIES:Agenda del PS
END:VEVENT
BEGIN:VEVENT
DTSTART;TZID=Europe/Zurich:20230914T181500
DTEND;TZID=Europe/Zurich:20230914T210000
DTSTAMP:20260420T182502
CREATED:20230821T084721Z
LAST-MODIFIED:20230912T112939Z
UID:105548-1694715300-1694725200@ps-ticino.ch
SUMMARY:Apérouge con Adriano Venuti- PS Locarno
DESCRIPTION:Vi aspettiamo per passare un momento in compagnia di Adriano Venuti\, tra due chiacchiere\, un bicchiere e un grissino. Per staccare la spina ma non troppo. \nBar Selz \nOre 18:15
URL:https://ps-ticino.ch/evento/aperouge-ps-locarno-copy/
LOCATION:Locarno
CATEGORIES:Agenda del PS
END:VEVENT
BEGIN:VEVENT
DTSTART;TZID=Europe/Zurich:20230911T180000
DTEND;TZID=Europe/Zurich:20230911T230000
DTSTAMP:20260420T182502
CREATED:20230719T104918Z
LAST-MODIFIED:20230719T104918Z
UID:105472-1694455200-1694473200@ps-ticino.ch
SUMMARY:A mezzo secolo dal golpe cileno 1973-2023 - serata culturale
DESCRIPTION:Serata culturale con discussioni\, aperitivo e proiezione organizzata dal Gruppo culturale della sinistra del Locarnese e Valli in collaborazione con il Circolo del Cinema di Locarno. Babel e Teatro Paravento \nCinema Gran Rex\, Locarno
URL:https://ps-ticino.ch/evento/a-mezzo-secolo-dal-golpe-cileno-1973-2023-serata-culturale/
LOCATION:Locarno
CATEGORIES:Agenda del PS
END:VEVENT
END:VCALENDAR