BEGIN:VCALENDAR
VERSION:2.0
PRODID:-//PS Ticino - ECPv6.15.20//NONSGML v1.0//EN
CALSCALE:GREGORIAN
METHOD:PUBLISH
X-WR-CALNAME:PS Ticino
X-ORIGINAL-URL:https://ps-ticino.ch
X-WR-CALDESC:Eventi per PS Ticino
REFRESH-INTERVAL;VALUE=DURATION:PT1H
X-Robots-Tag:noindex
X-PUBLISHED-TTL:PT1H
BEGIN:VTIMEZONE
TZID:Europe/Zurich
BEGIN:DAYLIGHT
TZOFFSETFROM:+0100
TZOFFSETTO:+0200
TZNAME:CEST
DTSTART:20220327T010000
END:DAYLIGHT
BEGIN:STANDARD
TZOFFSETFROM:+0200
TZOFFSETTO:+0100
TZNAME:CET
DTSTART:20221030T010000
END:STANDARD
BEGIN:DAYLIGHT
TZOFFSETFROM:+0100
TZOFFSETTO:+0200
TZNAME:CEST
DTSTART:20230326T010000
END:DAYLIGHT
BEGIN:STANDARD
TZOFFSETFROM:+0200
TZOFFSETTO:+0100
TZNAME:CET
DTSTART:20231029T010000
END:STANDARD
BEGIN:DAYLIGHT
TZOFFSETFROM:+0100
TZOFFSETTO:+0200
TZNAME:CEST
DTSTART:20240331T010000
END:DAYLIGHT
BEGIN:STANDARD
TZOFFSETFROM:+0200
TZOFFSETTO:+0100
TZNAME:CET
DTSTART:20241027T010000
END:STANDARD
END:VTIMEZONE
BEGIN:VEVENT
DTSTART;VALUE=DATE:20231022
DTEND;VALUE=DATE:20231023
DTSTAMP:20260420T182502
CREATED:20231017T133935Z
LAST-MODIFIED:20231017T134035Z
UID:106233-1697932800-1698019199@ps-ticino.ch
SUMMARY:Ritrovo elettorale alla Casa del Popolo
DESCRIPTION:Vi aspettiamo domenica pomeriggio al Ristorante Casa del Popolo per seguire assieme i risultati delle elezioni! \n \n  \n 
URL:https://ps-ticino.ch/evento/ritrovo-elettorale-alla-casa-del-popolo/
LOCATION:Genestrerio
CATEGORIES:Agenda del PS
END:VEVENT
BEGIN:VEVENT
DTSTART;TZID=Europe/Zurich:20231020T183000
DTEND;TZID=Europe/Zurich:20231020T230000
DTSTAMP:20260420T182502
CREATED:20230713T122802Z
LAST-MODIFIED:20231013T120352Z
UID:105449-1697826600-1697842800@ps-ticino.ch
SUMMARY:Festa finale per le elezioni
DESCRIPTION:Grande festa finale per festeggiare le elezioni federali organizzata dal PS Mendrisiotto. \nInterventi dei candidati \ncon intermezzi musicali degli AIELÈ \nStanding dinner e a seguire \nAfter wall party con dj set Joe da Silva \nGenestrerio\, sala multiuso (Via Campagnola 13\, 6852 Genestrerio) dalle 18:30 \n \n  \n 
URL:https://ps-ticino.ch/evento/festa-finale-per-le-elezioni/
LOCATION:Genestrerio
CATEGORIES:Agenda del PS
END:VEVENT
END:VCALENDAR