BEGIN:VCALENDAR
VERSION:2.0
PRODID:-//PS Ticino - ECPv6.15.20//NONSGML v1.0//EN
CALSCALE:GREGORIAN
METHOD:PUBLISH
X-WR-CALNAME:PS Ticino
X-ORIGINAL-URL:https://ps-ticino.ch
X-WR-CALDESC:Eventi per PS Ticino
REFRESH-INTERVAL;VALUE=DURATION:PT1H
X-Robots-Tag:noindex
X-PUBLISHED-TTL:PT1H
BEGIN:VTIMEZONE
TZID:Europe/Zurich
BEGIN:DAYLIGHT
TZOFFSETFROM:+0100
TZOFFSETTO:+0200
TZNAME:CEST
DTSTART:20220327T010000
END:DAYLIGHT
BEGIN:STANDARD
TZOFFSETFROM:+0200
TZOFFSETTO:+0100
TZNAME:CET
DTSTART:20221030T010000
END:STANDARD
BEGIN:DAYLIGHT
TZOFFSETFROM:+0100
TZOFFSETTO:+0200
TZNAME:CEST
DTSTART:20230326T010000
END:DAYLIGHT
BEGIN:STANDARD
TZOFFSETFROM:+0200
TZOFFSETTO:+0100
TZNAME:CET
DTSTART:20231029T010000
END:STANDARD
BEGIN:DAYLIGHT
TZOFFSETFROM:+0100
TZOFFSETTO:+0200
TZNAME:CEST
DTSTART:20240331T010000
END:DAYLIGHT
BEGIN:STANDARD
TZOFFSETFROM:+0200
TZOFFSETTO:+0100
TZNAME:CET
DTSTART:20241027T010000
END:STANDARD
END:VTIMEZONE
BEGIN:VEVENT
DTSTART;TZID=Europe/Zurich:20231003T183000
DTEND;TZID=Europe/Zurich:20231003T210000
DTSTAMP:20260420T182419
CREATED:20230829T133549Z
LAST-MODIFIED:20230829T133549Z
UID:105609-1696357800-1696366800@ps-ticino.ch
SUMMARY:Retrospettiva della scorsa legislatura
DESCRIPTION:Incontro con Greta Gysin e Bruno Storni per parlare dei temi della scorsa legislatura \nSegue aperitivo offerto \n  \nLuogo: Birrificio di Bioggio
URL:https://ps-ticino.ch/evento/retrospettiva-della-scorsa-legislatura/
LOCATION:Bioggio\, Birrificio
CATEGORIES:Agenda del PS
END:VEVENT
END:VCALENDAR