BEGIN:VCALENDAR
VERSION:2.0
PRODID:-//PS Ticino - ECPv6.15.20//NONSGML v1.0//EN
CALSCALE:GREGORIAN
METHOD:PUBLISH
X-WR-CALNAME:PS Ticino
X-ORIGINAL-URL:https://ps-ticino.ch
X-WR-CALDESC:Eventi per PS Ticino
REFRESH-INTERVAL;VALUE=DURATION:PT1H
X-Robots-Tag:noindex
X-PUBLISHED-TTL:PT1H
BEGIN:VTIMEZONE
TZID:Europe/Zurich
BEGIN:DAYLIGHT
TZOFFSETFROM:+0100
TZOFFSETTO:+0200
TZNAME:CEST
DTSTART:20220327T010000
END:DAYLIGHT
BEGIN:STANDARD
TZOFFSETFROM:+0200
TZOFFSETTO:+0100
TZNAME:CET
DTSTART:20221030T010000
END:STANDARD
BEGIN:DAYLIGHT
TZOFFSETFROM:+0100
TZOFFSETTO:+0200
TZNAME:CEST
DTSTART:20230326T010000
END:DAYLIGHT
BEGIN:STANDARD
TZOFFSETFROM:+0200
TZOFFSETTO:+0100
TZNAME:CET
DTSTART:20231029T010000
END:STANDARD
BEGIN:DAYLIGHT
TZOFFSETFROM:+0100
TZOFFSETTO:+0200
TZNAME:CEST
DTSTART:20240331T010000
END:DAYLIGHT
BEGIN:STANDARD
TZOFFSETFROM:+0200
TZOFFSETTO:+0100
TZNAME:CET
DTSTART:20241027T010000
END:STANDARD
END:VTIMEZONE
BEGIN:VEVENT
DTSTART;TZID=Europe/Zurich:20230818T183000
DTEND;TZID=Europe/Zurich:20230818T220000
DTSTAMP:20260420T182420
CREATED:20230717T092252Z
LAST-MODIFIED:20230807T103550Z
UID:105457-1692383400-1692396000@ps-ticino.ch
SUMMARY:Aperitivo elettorale del PS Mendrisiotto e Basso Ceresio
DESCRIPTION:  \n \nAperitivo per il lancio della campagna elettorale \nCrotto S. Antonio\, Balerna
URL:https://ps-ticino.ch/evento/aperitivo-elettorale-del-ps-mendrisiotto-e-basso-ceresio/
LOCATION:Balerna
CATEGORIES:Agenda del PS
END:VEVENT
END:VCALENDAR